Workbook

Sheet XXXX

Sheet pagecouvert.
A6: Banque de la République d’Haïti
A19: RAPPORT "STATISTIQUES" ET INDICATEURS FINANCIERS
A27: DONNÉES FINANCIÈRES TRIMESTRIELLES
A28: DES ÉTABLISSEMENTS BANCAIRES
L37: TRIM 1 2015
J38: (1er octobre au 30 décembre 2014)

Sheet tabmat
A1: TABLE DES MATIÈRES
B3: NOTE AUX UTILISATEURS | N3: i
A5: SECTION 1 | B5: GRAPHES ET TABLEAUX
B6: Évolution du bilan | N6: 5
B7: Évolution des résultats | N7: 12
B8: Évolution du nombre d'employés | N8: 18
B9: Évolution du nombre de prêts | N9: 19
B10: Évolution du nombre de dépôts | N10: 20
A12: SECTION 2 | B12: SOMMAIRE FINANCIER - SYSTÈME BANCAIRE
B13: Indicateurs financiers | N13: 26
B14: Parts de marché | N14: 27
B15: Bilan
B16: Analyse des variations | N16: 32
B17: Analyse de la composition | N17: 33
B18: Devises et Gourdes | N18: 34
B19: Résultats
B20: Analyse des variations trimestrielles | N20: 35
B21: Analyse des variations annuelles | N21: 36
A23: SECTION 3 | B23: SOMMAIRE FINANCIER DÉTAILLÉ - SYSTÈME BANCAIRE
B24: Faits saillants financiers | N24: 38
B25: Ratios financiers clés décembre 2014 | N25: 39
B26: Ratios financiers clés septembre 2014 | N26: 40
B27: Ratios financiers clés juin 2014 | N27: 41
B28: Ratios financiers clés mars 2014 | N28: 42
B29: Ratios financiers clés décembre 2013 | N29: 43
B30: Ratios financiers clés septembre 2013 | N30: 44
B31: Ratios financiers clés juin 2013 | N31: 45
B32: Ratios financiers clés mars 2013 | N32: 46
B33: Ratios financiers clés décembre 2012 | N33: 47
B34: Bilan au 31 décembre 2014
B35: Gourdes et devises | N35: 48
B36: Gourdes seulement | N36: 49
B37: Devises seulement | N37: 50
B38: Bilan au 30 septembre 2014 | N38: 51
B39: Bilan au 30 juin 2014 | N39: 52
B40: Bilan au 31 mars 2014 | N40: 53
B41: Bilan au 31 décembre 2013 | N41: 54
B42: Bilan au 30 juin 2013 | N42: 55
B43: Bilan au 31 mars 2013 | N43: 56
B44: Bilan au 31 décembre 2012 | N44: 57
...

Sheet Noteutili
A1: NOTE AUX UTILISATEURS
C4: Ce rapport a été préparé par la Direction de la Supervision de la Banque de la République d'Haïti (BRH) à partir des
C5: informations périodiques soumises par les établissements bancaires.
C7: Ce rapport ne constitue pas une analyse de la performance financière des établissements bancaires effectuée par la BRH.
C8: Toute conclusion tirée de ce rapport n'engage que l'utilisateur et ne saurait en aucune manière être attribuée à la BRH.
C10: Ce rapport comporte les cinq sections suivantes :
C11: Section 1 : Graphes et tableaux
C12: Section 2 : Sommaire financier (sommaire consolidé de l'ensemble des banques)
C13: Section 3 : Sommaire financier détaillé (sommaire détaillé banque par banque)
C14: Section 4 : Statistiques par banque ( données financières et indicateurs financiers banque par banque)
C15: Section 5 : Respect des normes prudentielles
C17: Les périodes TRIM 1 2015 et TRIM 1 2014 doivent être lues comme premier trimestre de l'exercice fiscal 2014-2015
C18: (1er octobre au 31 décembre 2014) et premier trimestre de l'exercice fiscal 2013-2014 (1er octobre au 31 décembre 2013).
... C22: 1er octobre 2014 au 31 décembre 2014 et période cumulative allant du 1er octobre 2013 au 31 décembre 2013.

Sheet pageint.sect1
A16: SECTION 1
A19: SOMMAIRE FINANCIER EN GRAPHES

Sheet actifs

Sheet dispo.

Sheet bonsbrh

Sheet prêts nets

Sheet dépôts

Sheet dépôts us

Sheet av.desact.

Sheet revint.

Sheet m.net%revint

Sheet aut.rev.

Sheet fraisd'expl.

Sheet f.d'exp%pnb

Sheet bénef.net

Sheet employés
A2: SOMMAIRE FINANCIER EN GRAPHES
A3: NOMBRE D'EMPLOYÉS PAR BANQUE
C6: BICH | E6: BNC | G6: BPH | I6: BUH | K6: PROMOBK | M6: SOCABK | O6: SOCABL | Q6: SOGEBK | S6: UNIBK | U6: CAPITALBK | W6: SOGEBL | X6: BHD | Z6: CBNA | AB6: SCOTIA | AC6: TOTAL
A8: Sept. 1998 | C8: 10 | E8: 543 | G8: 102 | I8: 335 | K8: 165 | M8: 144 | O8: 0 | Q8: 515 | S8: 326 | U8: 94 | W8: 44 | X8: 0 | Z8: 53 | AB8: 80 | AC8: =SUM(C8:AB8) -> 2411
A10: Déc. 1998 | C10: 10 | E10: 452 | G10: 111 | I10: 364 | K10: 163 | M10: 150 | O10: 0 | Q10: 514 | S10: 368 | U10: 97 | W10: 46 | X10: 0 | Z10: 54 | AB10: 81 | AC10: 2591
A12: Mars 1999 | C12: 10 | E12: 454 | G12: 105 | I12: 371 | K12: 161 | M12: 152 | O12: 0 | Q12: 543 | S12: 392 | U12: 120 | W12: 49 | X12: 0 | Z12: 56 | AB12: 82 | AC12: 2670
A14: Juin 1999 | C14: 10 | E14: 452 | G14: 106 | I14: 376 | K14: 160 | M14: 164 | O14: 0 | Q14: 694 | S14: 381 | U14: 124 | W14: 49 | X14: 0 | Z14: 56 | AB14: 82 | AC14: 2654
A16: Sept. 1999 | C16: 10 | E16: 316 | G16: 107 | I16: 383 | K16: 164 | M16: 177 | O16: 0 | Q16: 750 | S16: 412 | U16: 157 | W16: 48 | X16: 0 | Z16: 51 | AB16: 84 | AC16: 2659
A18: Déc. 1999 | C18: 9 | E18: 233 | G18: 111 | I18: 385 | K18: 164 | M18: 188 | O18: 0 | Q18: 806 | S18: 455 | U18: 146 | W18: 50 | X18: 22 | Z18: 59 | AB18: 84 | AC18: 2712
A20: Mars 2000 | C20: 10 | E20: 233 | G20: 110 | I20: 389 | K20: 164 | M20: 206 | O20: 0 | Q20: 826 | S20: 492 | U20: 146 | W20: 56 | X20: 23 | Z20: 60 | AB20: 84 | AC20: 2799
A22: Juin 2000 | C22: 10 | E22: 195 | G22: 105 | I22: 377 | K22: 165 | M22: 218 | O22: 0 | Q22: 890 | S22: 547 | U22: 154 | W22: 55 | X22: 18 | Z22: 59 | AB22: 87 | AC22: 2880
A24: Sept. 2000 | C24: 10 | E24: 213 | G24: 103 | I24: 310 | K24: 168 | M24: 230 | O24: 0 | Q24: 969 | S24: 570 | U24: 190 | W24: 55 | X24: 22 | Z24: 60 | AB24: 89 | AC24: =+C24+E24+G24+I24+K24+M24+Q24+S24+U24+W24+X24+Z24+AB24 -> 2989
A26: Déc. 2000 | C26: 11 | E26: 213 | G26: 102 | I26: 306 | K26: 174 | M26: 236 | O26: 0 | Q26: 986 | R26: * | S26: 596 | U26: 184 | W26: 56 | X26: 30 | Z26: 63 | AB26: 90 | AC26: =+C26+E26+G26+I26+K26+M26+Q26+S26+U26+X26+Z26+AB26 -> 2991
A28: Mars 2001 | C28: 11 | E28: 238 | G28: 100 | I28: 281 | K28: 181 | M28: 262 | O28: 0 | Q28: 1130 | R28: * | S28: 597 | U28: 195 | W28: 58 | X28: 29 | Z28: 65 | AB28: 90 | AC28: =+C28+E28+G28+I28+K28+M28+Q28+S28+U28+X28+Z28+AB28 -> 3179
A30: Juin 2001 | C30: 10 | E30: 214 | G30: 98 | I30: 287 | K30: 182 | M30: 277 | O30: 0 | Q30: 997 | S30: 621 | U30: 203 | W30: 61 | X30: 33 | Z30: 65 | AB30: 90 | AC30: =+C30+E30+G30+I30+K30+M30+Q30+S30+U30+X30+Z30+AB30 -> 3077
A32: Sept. 2001 | C32: 10 | E32: 208 | G32: 96 | I32: 257 | K32: 186 | M32: 290 | O32: 0 | Q32: 1100 | S32: 688 | U32: 216 | W32: 58 | X32: 28 | Z32: 66 | AB32: 90 | AC32: =+C32+E32+G32+I32+K32+M32+Q32+S32+U32+W32+X32+Z32+AB32+W32 -> 3351
A34: Déc. 2001 | C34: 10 | E34: 194 | G34: 99 | I34: 263 | K34: 195 | M34: 302 | O34: 0 | Q34: 1042 | S34: 720 | U34: 225 | W34: 59 | X34: 31 | Z34: 62 | AB34: 90 | AC34: =+C34+E34+G34+I34+K34+M34+Q34+S34+U34+W34+X34+Z34+AB34+W34 -> 3351
A36: Mars 2002 | C36: 10 | E36: 215 | G36: 99 | I36: 249 | K36: 168 | M36: 315 | O36: 0 | Q36: 1055 | S36: 830 | U36: 227 | W36: 60 | X36: 0 | Z36: 58 | AB36: 88 | AC36: =+C36+E36+G36+I36+K36+M36+Q36+S36+U36+W36+Z36+AB36+W36 -> 3434
A38: Juin 2002 | C38: 10 | E38: 231 | G38: 104 | I38: 244 | K38: 165 | M38: 326 | O38: 20 | Q38: 988 | S38: 749 | U38: 222 | W38: 59 | X38: 0 | Z38: 57 | AB38: 90 | AC38: =+C38+E38+G38+I38+K38+M38+O38+Q38+S38+U38+W38+Z38+AB38+W38 -> 3324
A40: Sept. 2002 | C40: 10 | E40: 237 | G40: 109 | I40: 249 | K40: 170 | M40: 321 | O40: 20 | Q40: 972 | S40: 753 | U40: 216 | W40: 60 | X40: 0 | Z40: 60 | AB40: 88 | AC40: =+C40+E40+G40+I40+K40+M40+O40+Q40+S40+U40+W40+Z40+AB40 -> 3265
A42: Déc. 2002 | C42: 9 | E42: 243 | G42: 112 | I42: 358 | K42: 176 | M42: 329 | O42: 20 | Q42: 836 | S42: 662 | U42: 237 | W42: 58 | X42: 0 | Z42: 57 | AB42: 88 | AC42: =+C42+E42+G42+I42+K42+M42+O42+Q42+S42+U42+W42+Z42+AB42 -> 3185
A44: Mars 2003 | C44: 10 | E44: 261 | G44: 119 | I44: 343 | K44: 172 | M44: 350 | O44: 20 | Q44: 831 | S44: 676 | U44: 220 | W44: 60 | X44: 0 | Z44: 50 | AB44: 88 | AC44: =+C44+E44+G44+I44+K44+M44+O44+Q44+S44+U44+W44+Z44+AB44 -> 3200
A46: Juin 2003 | C46: 9 | E46: 260 | G46: 116 | I46: 345 | K46: 175 | M46: 375 | O46: 23 | Q46: 831 | S46: 686 | U46: 231 | W46: 61 | X46: 0 | Z46: 48 | AB46: 90 | AC46: =+C46+E46+G46+I46+K46+M46+O46+Q46+S46+U46+W46+Z46+AB46 -> 3250
A48: Sept. 2003 | C48: 10 | E48: 269 | G48: 131 | I48: 362 | K48: 181 | M48: 358 | O48: 23 | Q48: 841 | S48: 695 | U48: 247 | W48: 57 | X48: 0 | Z48: 48 | AB48: 83 | AC48: =+C48+E48+G48+I48+K48+M48+O48+Q48+S48+U48+W48+Z48+AB48 -> 3305
A50: Déc. 2003 | C50: 10 | E50: 270 | G50: 120 | I50: 365 | K50: 182 | M50: 377 | O50: 23 | Q50: 868 | S50: 741 | U50: 264 | W50: 61 | X50: 0 | Z50: 48 | AB50: 88 | AC50: =+C50+E50+G50+I50+K50+M50+O50+Q50+S50+U50+W50+Z50+AB50 -> 3417
A52: Mars 2004 | C52: 8 | E52: 287 | G52: 118 | I52: 371 | K52: 198 | M52: 362 | O52: 23 | Q52: 863 | S52: 751 | U52: 268 | W52: 61 | X52: 0 | Z52: 49 | AB52: 88 | AC52: =+C52+E52+G52+I52+K52+M52+O52+Q52+S52+U52+W52+Z52+AB52 -> 3447
A54: Juin 2004 | C54: 9 | E54: 293 | G54: 119 | I54: 379 | K54: 201 | M54: 360 | O54: 23 | Q54: 820 | S54: 756 | U54: 271 | W54: 59 | X54: 0 | Z54: 45 | AB54: 83 | AC54: =+C54+E54+G54+I54+K54+M54+O54+Q54+S54+U54+W54+Z54+AB54 -> 3418
A56: Sept. 2004 | C56: 9 | E56: 293 | G56: 118 | I56: 376 | K56: 198 | M56: 367 | O56: 23 | Q56: 898 | S56: 762 | U56: 299 | W56: 62 | X56: 0 | Z56: 47 | AB56: 80 | AC56: =+C56+E56+G56+I56+K56+M56+O56+Q56+S56+U56+W56+Z56+AB56 -> 3532
A58: Déc. 2004 | C58: 10 | E58: 308 | G58: 119 | I58: 390 | K58: 200 | M58: 392 | O58: 25 | Q58: 911 | S58: 726 | U58: 280 | W58: 55 | X58: 0 | Z58: 49 | AB58: 84 | AC58: =+C58+E58+G58+I58+K58+M58+O58+Q58+S58+U58+W58+Z58+AB58 -> 3549
A60: Mars 2005 | C60: 10 | E60: 308 | G60: 118 | I60: 384 | K60: 202 | M60: 404 | O60: 24 | Q60: 912 | S60: 754 | U60: 294 | W60: 54 | X60: 0 | Z60: 46 | AB60: 91 | AC60: =+C60+E60+G60+I60+K60+M60+O60+Q60+S60+U60+W60+Z60+AB60 -> 3601
A62: Juin 2005 | C62: 9 | E62: 350 | G62: 117 | I62: 391 | K62: 198 | M62: 378 | O62: 25 | Q62: 922 | S62: 748 | U62: 279 | W62: 55 | X62: 0 | Z62: 47 | AB62: 97 | AC62: =+C62+E62+G62+I62+K62+M62+O62+Q62+S62+U62+W62+Z62+AB62 -> 3616
... A68: Mars 2006 | C68: 9 | E68: 306 | G68: 124 | I68: 486 | K68: 180 | M68: 454 | O68: 16 | Q68: 956 | S68: 817 | U68: 284 | W68: 55 | X68: 0 | Z68: 45 | AB68: 97 | AC68: =+C68+E68+G68+I68+K68+M68+O68+Q68+S68+U68+W68+Z68+AB68 -> 3829
A70: Juin 2006 | C70: 0 | E70: 329 | G70: 125 | I70: 476 | K70: 177 | M70: 428 | O70: N/A | Q70: 975 | S70: 842 | U70: 277 | W70: 52 | X70: 0 | Z70: 41 | AB70: 90 | AC70: =+C70+E70+G70+I70+K70+M70+Q70+S70+U70+W70+Z70+AB70 -> 3812
A72: Sept. 2006 | C72: 0 | E72: 314 | G72: 126 | I72: 348 | K72: N/A | M72: 413 | O72: N/A | Q72: 1192 | S72: 874 | U72: 281 | W72: 57 | X72: 0 | Z72: 47 | AB72: 97 | AC72: =+C72+E72+G72+I72+M72+Q72+S72+U72+W72+Z72+AB72 -> 3749
A74: Déc. 2006 | C74: 0 | E74: 323 | G74: 128 | I74: 328 | K74: N/A | M74: 424 | O74: N/A | Q74: 1216 | S74: 919 | U74: 280 | W74: 57 | X74: 0 | Z74: 46 | AB74: 97 | AC74: =+C74+E74+G74+I74+M74+Q74+S74+U74+W74+Z74+AB74 -> 3818
A76: Mars 2007 | C76: 0 | E76: 737 | G76: 132 | I76: 354 | K76: N/A | M76: N/A | O76: N/A | Q76: 1192 | S76: 920 | U76: 295 | W76: 58 | X76: 0 | Z76: 46 | AB76: 97 | AC76: =+C76+E76+G76+I76+Q76+S76+U76+W76+Z76+AB76 -> 3831
A78: Juin 2007 | C78: 0 | E78: 677 | G78: 128 | I78: 360 | K78: N/A | M78: N/A | O78: N/A | Q78: 1212 | S78: 929 | U78: 302 | W78: 60 | X78: 0 | Z78: 44 | AB78: 97 | AC78: =+C78+E78+G78+I78+Q78+S78+U78+W78+Z78+AB78 -> 3809
A80: Sept. 2007 | C80: 0 | E80: 884 | G80: 126 | I80: 380 | K80: N/A | M80: N/A | O80: N/A | Q80: 1168 | S80: 994 | U80: 309 | W80: 59 | X80: 0 | Z80: 46 | AB80: 97 | AC80: =+C80+E80+G80+I80+Q80+S80+U80+W80+Z80+AB80 -> 4063
A82: Déc. 2007 | C82: 0 | E82: 526 | G82: 133 | I82: 513 | K82: N/A | M82: N/A | O82: N/A | Q82: 1155 | S82: 1073 | U82: 312 | W82: 60 | X82: 0 | Z82: 47 | AB82: 90 | AC82: =+C82+E82+G82+I82+Q82+S82+U82+W82+Z82+AB82 -> 3909
A84: Mars 2008 | C84: 0 | E84: 526 | G84: 135 | I84: 365 | K84: N/A | M84: N/A | O84: N/A | Q84: 1214 | S84: 1122 | U84: 317 | W84: 63 | X84: 0 | Z84: 44 | AB84: 90 | AC84: =+C84+E84+G84+I84+Q84+S84+U84+W84+Z84+AB84 -> 3876
...

Sheet nbre de prêts
A3: SOMMAIRE FINANCIER EN GRAPHES
A4: EVOLUTION DU NOMBRE DE PRÊTS PAR BANQUE
B7: BICH | D7: BNC | F7: BPH | H7: BUH | J7: PROMOBK | L7: SOCABK | N7: SOCABL | P7: SOGEBK | R7: UNIBK | T7: CAPITALBK | V7: SOGEBL | W7: BHD | Y7: CBNA | AA7: SCOTIA | AB7: TOTAL
A9: Déc. 1998 | B9: 160 | D9: =8476+50 -> 8526 | F9: =1353+314 -> 1667 | H9: 2858 | J9: =1017+503 -> 1520 | L9: =416+299 -> 715 | N9: 0 | P9: =651+1041 -> 1692 | R9: =624+350 -> 974 | T9: =624+63 -> 687 | V9: =547+16 -> 563 | W9: 0 | Y9: =156+69 -> 225 | AA9: =1290+193 -> 1483 | AB9: =SUM(B9:AA9) -> 21070
A11: Mars 1999 | B11: 0 | D11: =7299+50 -> 7349 | F11: =1374+318 -> 1692 | H11: =2475+767 -> 3242 | J11: =1035+516 -> 1551 | L11: =476+302 -> 778 | N11: 0 | P11: =662+942 -> 1604 | R11: =621+402 -> 1023 | T11: =564+109 -> 673 | V11: =505+15 -> 520 | W11: 0 | Y11: =152+68 -> 220 | AA11: =1461+196 -> 1657 | AB11: =SUM(B11:AA11) -> 20309
A13: Juin 1999 | B13: 0 | D13: =5962+50 -> 6012 | F13: =1472+331 -> 1803 | H13: =686+2533 -> 3219 | J13: =932+533 -> 1465 | L13: =531+267 -> 798 | N13: 0 | P13: =1214+1070 -> 2284 | R13: =573+402 -> 975 | T13: =1306+134 -> 1440 | V13: =495+13 -> 508 | W13: 0 | Y13: =256+76 -> 332 | AA13: =1425+200 -> 1625 | AB13: =SUM(B13:AA13) -> 20461
A15: Sept. 1999 | B15: 232 | D15: =3906+50 -> 3956 | F15: =1528+304 -> 1832 | H15: =580+3149 -> 3729 | J15: =1095+497 -> 1592 | L15: =577+258 -> 835 | N15: 0 | P15: =1181+428 -> 1609 | R15: =622+434 -> 1056 | T15: =712+110 -> 822 | V15: =552+14 -> 566 | W15: 0 | Y15: =175+81 -> 256 | AA15: =1450+200 -> 1650 | AB15: =SUM(B15:AA15) -> 18135
A17: Déc. 1999 | B17: =226+4 -> 230 | D17: =3717+50 -> 3767 | F17: =1542+310 -> 1852 | H17: =783+2969 -> 3752 | J17: 0 | L17: =610+250 -> 860 | N17: 0 | P17: =1173+395 -> 1568 | R17: =660+457 -> 1117 | T17: =736+114 -> 850 | V17: =542+16 -> 558 | W17: 6 | Y17: =185+81 -> 266 | AA17: =1418+190 -> 1608 | AB17: =SUM(B17:AA17) -> 16434
A19: Mars 2000 | B19: 239 | D19: 3767 | F19: 1802 | H19: 3752 | J19: 0 | L19: 933 | N19: 0 | P19: 1598 | R19: 1257 | T19: 755 | V19: 556 | W19: 11 | Y19: 271 | AA19: 1605 | AB19: =SUM(B19:AA19) -> 16546
A21: Juin 2000 | B21: 247 | D21: 3511 | F21: 1803 | H21: 4449 | J21: 0 | L21: 1074 | N21: 0 | P21: 1556 | R21: 1491 | T21: 813 | V21: 545 | W21: 17 | Y21: 280 | AA21: 1580 | AB21: =SUM(B21:AA21) -> 17366
A23: Sept. 2000 | B23: 70 | D23: 3443 | F23: 1773 | H23: 4999 | J23: 0 | L23: 1458 | N23: 0 | P23: 1499 | R23: 1512 | T23: 980 | V23: 529 | W23: 28 | Y23: 266 | AA23: 1586 | AB23: =SUM(B23:AA23) -> 18143
A25: Déc. 2000 | B25: 82 | D25: 1705 | F25: 1768 | H25: =4693+180 -> 4873 | J25: 490 | L25: =897+253 -> 1150 | N25: 0 | P25: =1215+347 -> 1562 | R25: =1088+571 -> 1659 | T25: 907 | V25: 522 | W25: 39 | Y25: 242 | AA25: =1426+130 -> 1556 | AB25: =SUM(B25:AA25) -> 16555
A27: Mars 2001 | B27: =67+5 -> 72 | D27: =3000+50 -> 3050 | F27: =1434+327 -> 1761 | H27: =5000+177 -> 5177 | J27: =1017+503 -> 1520 | L27: =867+258 -> 1125 | N27: 0 | P27: =1262+355 -> 1617 | R27: =1267+523 -> 1790 | T27: =666+134 -> 800 | V27: =504+15 -> 519 | W27: 42 | Y27: =150+74 -> 224 | AA27: =1430+131 -> 1561 | AB27: =SUM(B27:AA27) -> 19258
A29: Juin 2001 | B29: =65+5 -> 70 | D29: =2910+50 -> 2960 | F29: =1239+332 -> 1571 | H29: =4700+163 -> 4863 | J29: N/A | L29: =845+247 -> 1092 | N29: 0 | P29: =1354+363 -> 1717 | R29: =1294+535 -> 1829 | T29: =703+142 -> 845 | V29: =479+16 -> 495 | W29: =48+13 -> 61 | Y29: =152+69 -> 221 | AA29: 1445.134 | AB29: =SUM(B29:AA29) -> 17169.134
A31: Sept. 2001 | B31: =81+5 -> 86 | D31: =2831+50 -> 2881 | F31: =1234+322 -> 1556 | H31: =4471+174 -> 4645 | J31: =305+106 -> 411 | L31: =801+251 -> 1052 | N31: 0 | P31: =1325+354 -> 1679 | R31: =1677+521 -> 2198 | T31: =642+146 -> 788 | V31: =478+18 -> 496 | W31: 67 | Y31: =144+65 -> 209 | AA31: =1450+132 -> 1582 | AB31: =SUM(B31:AA31) -> 17650
A33: Déc. 2001 | B33: =92+5 -> 97 | D33: =1974+50 -> 2024 | F33: =1226+324 -> 1550 | H33: =3696+188 -> 3884 | J33: =312+122 -> 434 | L33: =765+264 -> 1029 | N33: 0 | P33: =1387+367 -> 1754 | R33: =1782+572 -> 2354 | T33: =301+114 -> 415 | V33: =475+17 -> 492 | W33: 69 | Y33: =146+55 -> 201 | AA33: 1379 | AB33: =SUM(B33:AA33) -> 15682
A35: Mars 2002 | B35: 0 | D35: 2175 | F35: =1455+270 -> 1725 | H35: =3209+112 -> 3321 | J35: =309+137 -> 446 | L35: =701+254 -> 955 | N35: 0 | P35: =1428+362 -> 1790 | R35: =835+485 -> 1320 | T35: =305+120 -> 425 | V35: =472+17 -> 489 | W35: ** | Y35: =107+60 -> 167 | AA35: =1230+129 -> 1359 | AB35: =SUM(B35:AA35) -> 14172
A37: Juin 2002 | B37: =57+5 -> 62 | D37: 2054 | F37: =1599+274 -> 1873 | H37: =2276+111 -> 2387 | J37: =313+151 -> 464 | L37: =630+241 -> 871 | N37: =8+2 -> 10 | P37: =1579+346 -> 1925 | R37: =815+475 -> 1290 | T37: =330+123 -> 453 | V37: =473+14 -> 487 | W37: ** | Y37: =118+61 -> 179 | AA37: =1283+136 -> 1419 | AB37: =SUM(B37:AA37) -> 13474
A39: Sept. 2002 | B39: =52+2 -> 54 | D39: 2054 | F39: =1216+217 -> 1433 | H39: =1583+108 -> 1691 | J39: =310+166 -> 476 | L39: =586+242 -> 828 | N39: 10 | P39: =1724+322 -> 2046 | R39: =4554+500 -> 5054 | T39: =356+112 -> 468 | V39: =478+13 -> 491 | W39: ** | Y39: =126+62 -> 188 | AA39: =1303+137 -> 1440 | AB39: =SUM(B39:AA39) -> 16233
A41: Déc. 2002 | B41: =56+2 -> 58 | D41: 6362 | F41: =1743+217 -> 1960 | H41: =1269+101 -> 1370 | J41: =320+209 -> 529 | L41: =579+231 -> 810 | N41: =49+4 -> 53 | P41: =1999+354 -> 2353 | R41: =840+575 -> 1415 | T41: =325+134 -> 459 | V41: =464+12 -> 476 | W41: ** | Y41: =119+68 -> 187 | AA41: =1312+137 -> 1449 | AB41: =SUM(B41:AA41) -> 17481
A43: Mars 2003 | B43: =35+3 -> 38 | D43: 9881 | F43: =1736+229 -> 1965 | H43: =1367+98 -> 1465 | J43: =805+387 -> 1192 | L43: =542+227 -> 769 | N43: =49+4 -> 53 | P43: =2290+364 -> 2654 | R43: =893+557 -> 1450 | T43: =331+129 -> 460 | V43: =472+13 -> 485 | W43: ** | Y43: =112+64 -> 176 | AA43: =1344+139 -> 1483 | AB43: =SUM(B43:AA43) -> 22071
A45: Juin 2003 | B45: =37+3 -> 40 | D45: 10777 | F45: =1782+227 -> 2009 | H45: =1285+96 -> 1381 | J45: =730+363 -> 1093 | L45: =544+229 -> 773 | N45: =77+7 -> 84 | P45: =2522+420 -> 2942 | R45: =908+532 -> 1440 | T45: =361+122 -> 483 | V45: =475+13 -> 488 | W45: ** | Y45: =116+63 -> 179 | AA45: =1362+139 -> 1501 | AB45: =SUM(B45:AA45) -> 23190
A47: Sept. 2003 | B47: =36+3 -> 39 | D47: 11572 | F47: =1855+198 -> 2053 | H47: =1597+102 -> 1699 | J47: =772+383 -> 1155 | L47: =552+227 -> 779 | N47: =83+8 -> 91 | P47: =2671+458 -> 3129 | R47: =877+536 -> 1413 | T47: =371+129 -> 500 | V47: =469+13 -> 482 | W47: ** | Y47: =93+52 -> 145 | AA47: 0 | AB47: =SUM(B47:AA47) -> 23057
A49: Déc. 2003 | B49: =38+1 -> 39 | D49: 11436 | F49: =1627+223 -> 1850 | H49: =1749+89 -> 1838 | J49: =868+446 -> 1314 | L49: =538+230 -> 768 | N49: =83+9 -> 92 | P49: =2830+525 -> 3355 | R49: =1355+396 -> 1751 | T49: =424+146 -> 570 | V49: =480+12 -> 492 | W49: ** | Y49: 0 | AA49: =1498+143 -> 1641 | AB49: =SUM(B49:AA49) -> 25146
A51: Mars 2004 | B51: =37+2 -> 39 | D51: 9683 | F51: =1724+264 -> 1988 | H51: =1978+82 -> 2060 | J51: =795+401 -> 1196 | L51: =519+239 -> 758 | N51: =82+10 -> 92 | P51: =2914+561 -> 3475 | R51: =1364+408 -> 1772 | T51: =452+155 -> 607 | V51: =465+11 -> 476 | W51: ** | Y51: =68+44 -> 112 | AA51: =1101+79 -> 1180 | AB51: =SUM(B51:AA51) -> 23438
A53: Juin 2004 | B53: =34+4 -> 38 | D53: 7539 | F53: =1413+251 -> 1664 | H53: =2529+91 -> 2620 | J53: =657+375 -> 1032 | L53: =587+230 -> 817 | N53: =85+11 -> 96 | P53: =3109+643 -> 3752 | R53: =1367+472 -> 1839 | T53: =488+180 -> 668 | V53: =455+10 -> 465 | W53: ** | Y53: =44+92 -> 136 | AA53: =755+88 -> 843 | AB53: =SUM(B53:AA53) -> 21509
A55: Sept. 2004 | B55: =41+2 -> 43 | D55: 7539 | F55: =1376+250 -> 1626 | H55: =2656+76 -> 2732 | J55: =602+348 -> 950 | L55: =657+262 -> 919 | N55: =91+10 -> 101 | P55: =3439+618 -> 4057 | R55: =1443+493 -> 1936 | T55: =508+168 -> 676 | V55: =471+13 -> 484 | W55: ** | Y55: =40+82 -> 122 | AA55: =792+330 -> 1122 | AB55: =SUM(B55:AA55) -> 22307
A57: Déc. 2004 | B57: =33+2 -> 35 | D57: 4572 | F57: =1016+260 -> 1276 | H57: =2275+60 -> 2335 | J57: =635+373 -> 1008 | L57: =674+276 -> 950 | N57: =89+10 -> 99 | P57: =2780+894 -> 3674 | R57: =1089+385 -> 1474 | T57: =513+210 -> 723 | V57: =458+14 -> 472 | W57: ** | Y57: =53+94 -> 147 | AA57: =700+321 -> 1021 | AB57: =SUM(B57:AA57) -> 17786
A59: Mars 2005 | B59: =36+2 -> 38 | D59: 5695 | F59: =990+256 -> 1246 | H59: =2588+70 -> 2658 | J59: =573+288 -> 861 | L59: =662+279 -> 941 | N59: =87+11 -> 98 | P59: =2863+915 -> 3778 | R59: =1393+509 -> 1902 | T59: =531+224 -> 755 | V59: =464+13 -> 477 | W59: ** | Y59: =44+86 -> 130 | AA59: =691+317 -> 1008 | AB59: =SUM(B59:AA59) -> 19587
A61: Juin 2005 | B61: =35+1 -> 36 | D61: 8211 | F61: =1237+161 -> 1398 | H61: =3485+76 -> 3561 | J61: =466+264 -> 730 | L61: =653+128 -> 781 | N61: =91+14 -> 105 | P61: =2863+915 -> 3778 | R61: =1419+496 -> 1915 | T61: =531+234 -> 765 | V61: =467+12 -> 479 | W61: ** | Y61: =47+88 -> 135 | AA61: =737+309 -> 1046 | AB61: =SUM(B61:AA61) -> 22940
A63: Sept. 2005 | B63: =34+1 -> 35 | D63: 8211 | F63: =1377+185 -> 1562 | H63: =4132+76 -> 4208 | J63: =454+270 -> 724 | L63: =606+107 -> 713 | N63: 122 | P63: =2851+890 -> 3741 | R63: =1550+531 -> 2081 | T63: =539+227 -> 766 | V63: =471+11 -> 482 | W63: ** | Y63: =47+88 -> 135 | AA63: =719+305 -> 1024 | AB63: =SUM(B63:AA63) -> 23804
A65: Déc. 2005 | B65: =33+1 -> 34 | D65: =9760+676 -> 10436 | F65: =1515+194 -> 1709 | H65: =4155+88 -> 4243 | J65: =400+262 -> 662 | L65: =542+105 -> 647 | N65: =104+17 -> 121 | P65: =10278+752 -> 11030 | R65: =1534+517 -> 2051 | T65: =527+224 -> 751 | V65: =478+14 -> 492 | W65: ** | Y65: =44+91 -> 135 | AA65: =715+305 -> 1020 | AB65: =SUM(B65:AA65) -> 33331
A67: Mars 2006 | B67: =36+1 -> 37 | D67: =9904+290 -> 10194 | F67: =1483+189 -> 1672 | H67: =3864+87 -> 3951 | J67: =429+256 -> 685 | L67: =483+101 -> 584 | N67: =97+15 -> 112 | P67: =10525+616 -> 11141 | R67: =1781+640 -> 2421 | T67: =497+223 -> 720 | V67: =476+15 -> 491 | W67: ** | Y67: =37+89 -> 126 | AA67: =737+309 -> 1046 | AB67: =SUM(B67:AA67) -> 33180
A69: Juin 2006 | B69: 0 | D69: =9579+274 -> 9853 | F69: =1484+192 -> 1676 | H69: =443+3702 -> 4145 | J69: =441+247 -> 688 | L69: =515+111 -> 626 | N69: 0 | P69: =11268+649 -> 11917 | R69: =1613+615 -> 2228 | T69: =449+228 -> 677 | V69: =461+15 -> 476 | W69: ** | Y69: =43+98 -> 141 | AA69: =737+309 -> 1046 | AB69: =SUM(B69:AA69) -> 33473
A71: Sept. 2006 | B71: 0 | D71: =9523+146 -> 9669 | F71: =1594+195 -> 1789 | H71: =402+3832 -> 4234 | J71: 0 | L71: =551+111 -> 662 | N71: 0 | P71: =11538+626 -> 12164 | R71: =1664+644 -> 2308 | T71: =443+214 -> 657 | V71: =434+12 -> 446 | W71: ** | Y71: =36+95 -> 131 | AA71: =737+309 -> 1046 | AB71: =SUM(B71:AA71) -> 33106
A73: Déc. 2006 | B73: 0 | D73: =9666+139 -> 9805 | F73: =1813+183 -> 1996 | H73: =364+3983 -> 4347 | J73: 0 | L73: =505+108 -> 613 | N73: 0 | P73: =15074+1181 -> 16255 | R73: =1755+696 -> 2451 | T73: =446+220 -> 666 | V73: =435+12 -> 447 | W73: ** | Y73: =33+99 -> 132 | AA73: =753+311 -> 1064 | AB73: =SUM(B73:AA73) -> 37776
A75: Mars 2007 | B75: 0 | D75: =10175+147 -> 10322 | F75: =1671+183 -> 1854 | H75: =343+3814 -> 4157 | J75: ** | L75: ** | N75: ** | P75: =15105+1185 -> 16290 | R75: =1787+714 -> 2501 | T75: =427+132 -> 559 | V75: =440+15 -> 455 | W75: ** | Y75: =30+102 -> 132 | AA75: =737+309 -> 1046 | AB75: =SUM(B75:AA75) -> 37316
A77: Juin 2007 | B77: 0 | D77: =9844+144 -> 9988 | F77: =1699+184 -> 1883 | H77: =339+3578 -> 3917 | J77: ** | L77: ** | N77: ** | P77: =14958+1205 -> 16163 | R77: =1802+694 -> 2496 | T77: =457+214 -> 671 | V77: =436+15 -> 451 | W77: ** | Y77: =37+99 -> 136 | AA77: =737+309 -> 1046 | AB77: =SUM(B77:AA77) -> 36751
A79: Sept. 2007 | B79: 0 | D79: =11135+2254 -> 13389 | F79: =1691+181 -> 1872 | H79: =367+2762 -> 3129 | J79: ** | L79: ** | N79: ** | P79: =14614+944 -> 15558 | R79: =1821+732 -> 2553 | T79: =457+203 -> 660 | V79: =437+20 -> 457 | W79: ** | Y79: =44+96 -> 140 | AA79: =737+309 -> 1046 | AB79: =SUM(B79:AA79) -> 38804
A81: Déc. 2007 | B81: 0 | D81: =11320+2649 -> 13969 | F81: =1659+177 -> 1836 | H81: =374+2836 -> 3210 | J81: ** | L81: ** | N81: ** | P81: =15873+1257 -> 17130 | R81: =1855+761 -> 2616 | T81: =464+224 -> 688 | V81: =440+17 -> 457 | W81: ** | Y81: =40+100 -> 140 | AA81: =1491+66 -> 1557 | AB81: =SUM(B81:AA81) -> 41603
...

Sheet nbre de cptes de dépôts 
A1: NOMBRE DE COMPTES DE DÉPÔTS PAR BANQUE
A2: (En unités)
A3: AU 31 DÉCEMBRE 2014
B6: BNC | C6: BPH | D6: BUH | E6: SOGEBK | F6: UNIBK | G6: CAPITALBK | H6: SOGEBL | I6: CBNA | J6: SCOTIA | K6: TOTAL
A7: À vue | B7: 35525 | C7: 2436 | D7: 2157 | E7: 26563 | F7: 35846 | G7: 8310 | H7: 3596 | I7: 285 | J7: 2145 | K7: =SUM(B7:J7) -> 116863
A8: Épargne | B8: 333746 | C8: 13899 | D8: 37653 | E8: 488859 | F8: 742693 | G8: 61279 | H8: 5794 | I8: 1503 | J8: 10644 | K8: =SUM(B8:J8) -> 1696070
A9: À Terme | B9: 2032 | C9: 197 | D9: 876 | E9: 10514 | F9: 3084 | G9: 655 | H9: 789 | I9: 45 | J9: 472 | K9: =SUM(B9:J9) -> 18664
A10: TOTAL | B10: =SUM(B7:B9) -> 371303 | C10: =SUM(C7:C9) -> 16532 | D10: =SUM(D7:D9) -> 40686 | E10: =SUM(E7:E9) -> 525936 | F10: =SUM(F7:F9) -> 781623 | G10: =SUM(G7:G9) -> 70244 | H10: =SUM(H7:H9) -> 10179 | I10: =SUM(I7:I9) -> 1833 | ... K10: =SUM(K7:K9) -> 1831597
A13: NOMBRE DE COMPTES DE DÉPÔTS PAR BANQUE
A14: (En unités)
A15: AU 30 SEPTEMBRE 2014
B18: BNC | C18: BPH | D18: BUH | E18: SOGEBK | F18: UNIBK | G18: CAPITALBK | H18: SOGEBL | I18: CBNA | J18: SCOTIA | K18: TOTAL
A19: À vue | B19: 34991 | C19: 2373 | D19: 2248 | E19: 26437 | F19: 35625 | G19: 8296 | H19: 3564 | I19: 313 | J19: 2267 | K19: =SUM(B19:J19) -> 116114
A20: Épargne | B20: 334234 | C20: 13374 | D20: 46242 | E20: 494764 | F20: 746745 | G20: 61539 | H20: 5827 | I20: 1498 | J20: 10514 | K20: =SUM(B20:J20) -> 1714737
A21: À Terme | B21: 2050 | C21: 195 | D21: 861 | E21: 10815 | F21: 3095 | G21: 671 | H21: 766 | I21: 55 | J21: 495 | K21: =SUM(B21:J21) -> 19003
A22: TOTAL | B22: =SUM(B19:B21) -> 371275 | C22: =SUM(C19:C21) -> 15942 | D22: =SUM(D19:D21) -> 49351 | E22: =SUM(E19:E21) -> 532016 | F22: =SUM(F19:F21) -> 785465 | G22: =SUM(G19:G21) -> 70506 | H22: =SUM(H19:H21) -> 10157 | I22: =SUM(I19:I21) -> 1866 | ... K22: =SUM(K19:K21) -> 1849854
A26: NOMBRE DE COMPTES DE DÉPÔTS PAR BANQUE
A27: (En unités)
A28: AU 30 JUIN 2014
B31: BNC | C31: BPH | D31: BUH | E31: SOGEBK | F31: UNIBK | G31: CAPITALBK | H31: SOGEBL | I31: CBNA | J31: SCOTIA | K31: TOTAL
A32: À vue | B32: 35582 | C32: 2616 | D32: 9166 | E32: 26585 | F32: 35455 | G32: 8355 | H32: 3546 | I32: 339 | J32: 2252 | K32: =SUM(B32:J32) -> 123896
A33: Épargne | B33: 331466 | C33: 23949 | D33: 89212 | E33: 500031 | F33: 753623 | G33: 63780 | H33: 5904 | I33: 1559 | J33: 10623 | K33: =SUM(B33:J33) -> 1780147
A34: À Terme | B34: 2097 | C34: 195 | D34: 774 | E34: 10880 | F34: 3140 | G34: 694 | H34: 768 | I34: 68 | J34: 518 | K34: =SUM(B34:J34) -> 19134
A35: TOTAL | B35: =SUM(B32:B34) -> 369145 | C35: =SUM(C32:C34) -> 26760 | D35: =SUM(D32:D34) -> 99152 | E35: =SUM(E32:E34) -> 537496 | F35: =SUM(F32:F34) -> 792218 | G35: =SUM(G32:G34) -> 72829 | H35: =SUM(H32:H34) -> 10218 | I35: =SUM(I32:I34) -> 1966 | ... K35: =SUM(K32:K34) -> 1923177
A38: NOMBRE DE COMPTES DE DÉPÔTS PAR BANQUE
A39: (En unités)
A40: AU 31 MARS 2014
B43: BNC | C43: BPH | D43: BUH | E43: SOGEBK | F43: UNIBK | G43: CAPITALBK | H43: SOGEBL | I43: CBNA | J43: SCOTIA | K43: TOTAL
A44: À vue | B44: 35189 | C44: 2597 | D44: 9070 | E44: 26470 | F44: 35347 | G44: 8329 | H44: 3551 | I44: 356 | J44: 2331 | K44: =SUM(B44:J44) -> 123240
A45: Épargne | B45: 331151 | C45: 23768 | D45: 88574 | E45: 511753 | F45: 768048 | G45: 67344 | H45: 5975 | I45: 1682 | J45: 11337 | K45: =SUM(B45:J45) -> 1809632
A46: À Terme | B46: 2125 | C46: 198 | D46: 793 | E46: 10874 | F46: 3164 | G46: 721 | H46: 779 | I46: 71 | J46: 575 | K46: =SUM(B46:J46) -> 19300
A47: TOTAL | B47: =SUM(B44:B46) -> 368465 | C47: =SUM(C44:C46) -> 26563 | D47: =SUM(D44:D46) -> 98437 | E47: =SUM(E44:E46) -> 549097 | F47: =SUM(F44:F46) -> 806559 | G47: =SUM(G44:G46) -> 76394 | H47: =SUM(H44:H46) -> 10305 | I47: =SUM(I44:I46) -> 2109 | ... K47: =SUM(K44:K46) -> 1952172
A50: NOMBRE DE COMPTES DE DÉPÔTS PAR BANQUE
A51: (En unités)
A52: AU 31 DÉCEMBRE 2013
B55: BNC | C55: BPH | D55: BUH | E55: SOGEBK | F55: UNIBK | G55: CAPITALBK | H55: SOGEBL | I55: CBNA | J55: SCOTIA | K55: TOTAL
A56: À vue | B56: 34591 | C56: 2589 | D56: 8955 | E56: 26474 | F56: 35129 | G56: 8326 | H56: 3508 | I56: 367 | J56: 2292 | K56: =SUM(B56:J56) -> 122231
A57: Épargne | B57: 328241 | C57: 23444 | D57: 87888 | E57: 514298 | F57: 840805 | G57: 68088 | H57: 6050 | I57: 1682 | J57: 11289 | K57: =SUM(B57:J57) -> 1881785
A58: À Terme | B58: 2172 | C58: 200 | D58: 799 | E58: 10840 | F58: 3209 | G58: 744 | H58: 772 | I58: 75 | J58: 570 | K58: =SUM(B58:J58) -> 19381
A59: TOTAL | B59: =SUM(B56:B58) -> 365004 | C59: =SUM(C56:C58) -> 26233 | D59: =SUM(D56:D58) -> 97642 | E59: =SUM(E56:E58) -> 551612 | F59: =SUM(F56:F58) -> 879143 | G59: =SUM(G56:G58) -> 77158 | H59: =SUM(H56:H58) -> 10330 | I59: =SUM(I56:I58) -> 2124 | ... K59: =SUM(K56:K58) -> 2023397

Sheet dépôts P-AU-P et Prov. 
A2: RÉPARTITION DES DÉPÔTS DANS LA REGION METROPOLITAINE
A3: En Milliers de Gourdes
A4: Au 31 DÉCEMBRE 2014
B6: BNC | C6: BPH | D6: BUH | E6: CAPITALBK | F6: SOGEBK | G6: UNIBK | H6: SOGEBL | I6: CBNA | J6: SCOTIA | K6: TOTAL
A7: À vue | B7: 17613366 | C7: 1426485.5 | D7: 1350235.9 | E7: 5247665 | F7: 13352552 | G7: 21070110 | H7: 1083757.2 | I7: 3912349 | J7: 3211364 | K7: =SUM(B7:J7) -> 68267884
A8: Épargne | B8: 4993675.4 | C8: 579932.58 | D8: 991322.98 | E8: 2306579 | F8: 13763696 | G8: 15394890 | H8: 508819.44 | I8: 294638 | J8: 1689229 | K8: =SUM(B8:J8) -> 40522783
A9: À terme | B9: 3608795.2 | C9: 871487.54 | D9: 1009301.3 | E9: 2201806 | F9: 8806386.8 | G9: 5608967.5 | H9: 2952640.4 | I9: 381091 | J9: 325603 | K9: =SUM(B9:J9) -> 25766079
A10: TOTAL | B10: =+B7+B8+B9 -> 26215836 | C10: =+C7+C8+C9 -> 2877905.6 | D10: =+D7+D8+D9 -> 3350860.2 | E10: =+E7+E8+E9 -> 9756050 | F10: =+F7+F8+F9 -> 35922635 | G10: =+G7+G8+G9 -> 42073967 | H10: =+H7+H8+H9 -> 4545217.1 | I10: =+I7+I8+I9 -> 4588078 | J10: =+J7+J8+J9 -> 5226196 | K10: =SUM(K7:K9) -> 1.3455675e+08
A15: RÉPARTITION DES DÉPÔTS DANS LES VILLES DE PROVINCE
A16: En Milliers de Gourdes
A17: Au 31 DÉCEMBRE 2014
B19: BNC | C19: BPH | D19: BUH | E19: CAPITALBK | F19: SOGEBK | G19: UNIBANK | H19: SOGEBL | I19: CBNA | J19: SCOTIA | K19: TOTAL
A20: À vue | B20: 2460773.6 | C20: N/A | D20: 269661.3 | E20: 287588 | F20: 1434393.8 | G20: 1722657.8 | H20: N/A | I20: N/A | J20: N/A | K20: =SUM(B20:J20) -> 6175074.5
A21: Épargne | B21: 4832680.1 | C21: N/A | D21: 850511.32 | E21: 370004 | F21: 4814648.4 | G21: 4893278.6 | H21: N/A | I21: N/A | J21: N/A | K21: =SUM(B21:J21) -> 15761122
A22: À terme | B22: 366710.66 | C22: N/A | D22: 227776.6 | E22: 5852 | F22: 672941.35 | G22: 794872.65 | H22: N/A | I22: N/A | J22: N/A | K22: =SUM(B22:J22) -> 2068153.3
A23: TOTAL | B23: =+B20+B21+B22 -> 7660164.3 | C23: N/A | D23: =+D20+D21+D22 -> 1347949.2 | E23: =+E20+E21+E22 -> 663444 | F23: =+F20+F21+F22 -> 6921983.5 | G23: =+G20+G21+G22 -> 7410809.1 | H23: N/A | I23: N/A | J23: N/A | K23: =SUM(K20:K22) -> 24004350
C60: SCOTIA | D60: 1327
C61: PROMOBK | D61: 1050
C62: SOGEBK | D62: 875
C63: UNIBK | D63: 862
C64: CAPITALBK | D64: 664
C65: SOCABK | D65: 624
C66: SOGEBL | D66: 496
C67: BPH | D67: 278
C68: CBNA | D68: 171
C69: BICH | D69: 103
C70: BMH | D70: 12
C71: BIDC | D71: 0
... C73: BUH | D73: 0
A76: TABLEAU RÉCAPITULATIF DES DIFFERENTS TYPES DE DÉPOTS PAR BANQUE
A77: En Milliers de Gourdes
A78: Au 31 DÉCEMBRE 2014
B80: BNC | C80: BPH | D80: BUH | E80: CAPITALBK | F80: SOGEBK | G80: UNIBANK | H80: SOGEBL | I80: CBNA | J80: SCOTIA | K80: TOTAL
A81: À vue | B81: =+B7+B20 -> 20074139 | C81: =+C7 -> 1426485.5 | D81: =+D7+D20 -> 1619897.2 | E81: =+E7+E20 -> 5535253 | F81: =+F7+F20 -> 14786946 | G81: =+G7+G20 -> 22792767 | H81: =+H7 -> 1083757.2 | I81: =+I7 -> 3912349 | J81: =+J7 -> 3211364 | K81: =SUM(B81:J81) -> 74442959
A82: Épargne | B82: =+B8+B21 -> 9826355.5 | C82: =+C8 -> 579932.58 | D82: =+D8+D21 -> 1841834.3 | E82: =+E8+E21 -> 2676583 | F82: =+F8+F21 -> 18578345 | G82: =+G8+G21 -> 20288169 | H82: =+H8 -> 508819.44 | I82: =+I8 -> 294638 | J82: =+J8 -> 1689229 | K82: =SUM(B82:J82) -> 56283905
A83: À terme | B83: =+B9+B22 -> 3975505.8 | C83: =+C9 -> 871487.54 | D83: =+D9+D22 -> 1237077.9 | E83: =+E9+E22 -> 2207658 | F83: =+F9+F22 -> 9479328.2 | G83: =+G9+G22 -> 6403840.1 | H83: =+H9 -> 2952640.4 | I83: =+I9 -> 381091 | J83: =+J9 -> 325603 | K83: =SUM(B83:J83) -> 27834232
A84: TOTAL | B84: =+B81+B82+B83 -> 33876001 | C84: =+C81+C82+C83 -> 2877905.6 | D84: =+D81+D82+D83 -> 4698809.4 | E84: =+E81+E82+E83 -> 10419494 | F84: =+F81+F82+F83 -> 42844619 | G84: =+G81+G82+G83 -> 49484776 | H84: =+H81+H82+H83 -> 4545217.1 | I84: =+I81+I82+I83 -> 4588078 | J84: =+J81+J82+J83 -> 5226196 | K84: =SUM(K81:K83) -> 1.585611e+08

Sheet  dépôts à vue
A1: RÉPARTITION GÉOGRAPHIQUE DES COMPTES DE DÉPÔTS À VUE PAR BANQUE, PAR SUCCURSALES ET PAR AGENCES
A2: (EN MILLIERS DE GOURDES)
A3: AU 31 DÉCEMBRE 2014
A6: PORT-AU-PRINCE ET SES ENVIRONS
B8: BNC | C8: BPH | D8: BUH | E8: SOGEBK | F8: UNIBK | G8: CAPITALBK | H8: SOGEBL | I8: CBNA | J8: SCOTIA | K8: TOTAL
A10: Siège Social | B10: 9168467.8 | C10: 189496.2 | D10: 166817.48 | E10: 2201761.2 | F10: 1644424.6 | G10: 2094235 | H10: 535200.68 | I10: 3912349 | J10: 525821 | K10: =SUM(B10:J10) -> 20438573
A11: Place Geffrard | B11: 0 | C11: 0 | D11: 0 | E11: 2437745.8 | F11: 0 | G11: 0 | H11: 0 | I11: 0 | J11: 0 | K11: =SUM(B11:J11) -> 2437745.8
A12: Place Geffrard 2 | B12: 0 | C12: 0 | D12: 0 | E12: 0 | F12: 0 | G12: 0 | H12: 0 | I12: 0 | J12: 0 | K12: =SUM(B12:J12) -> 0
A13: Rue Pavée | B13: =SUM(B14:B15) -> 1367189.3 | C13: 0 | D13: 0 | E13: 707756.88 | F13: 0 | G13: 0 | H13: 0 | I13: 0 | J13: 0 | K13: =SUM(B13:J13) -> 2074946.2
A14: Pavée 1 | B14: 735681.4 | C14: 0 | D14: 0 | E14: 0 | F14: 0 | G14: 0 | H14: 0 | I14: 0 | J14: 0 | K14: =SUM(B14:J14) -> 735681.4
A15: Pavée 2 | B15: 631507.87 | C15: 0 | D15: 0 | E15: 0 | F15: 0 | G15: 0 | H15: 0 | I15: 0 | J15: 0 | K15: =SUM(B15:J15) -> 631507.87
A16: Delmas | B16: =SUM(B17:B20) -> 936308.2 | C16: 21950.405 | D16: 0 | E16: =SUM(E17:E24) -> 1063643.9 | F16: =SUM(F17:F27) -> 3767788.5 | G16: =SUM(G17:G27) -> 341099 | H16: =SUM(H17:H27) -> 377201.34 | I16: 0 | J16: 870110 | K16: =SUM(B16:J16) -> 7378101.4
A17: Delmas 52 | B17: 677310.15 | C17: 0 | D17: 0 | E17: 0 | F17: 0 | G17: 0 | H17: 0 | I17: 0 | J17: 0 | K17: =SUM(B17:J17) -> 677310.15
A18: Delmas 2 | B18: 111439.3 | C18: 0 | D18: 0 | E18: 0 | F18: 0 | G18: 0 | H18: 0 | I18: 0 | J18: 0 | K18: =SUM(B18:J18) -> 111439.3
A19: Delmas K-Dis | B19: 0 | C19: 0 | D19: 0 | E19: 0 | F19: 0 | G19: 320581 | H19: 0 | I19: 0 | J19: 0 | K19: =SUM(B19:J19) -> 320581
A20: Delmas 32 | B20: 147558.76 | C20: 0 | D20: 0 | E20: 0 | F20: 1684099.2 | G20: 0 | H20: 0 | I20: 0 | J20: 0 | K20: =SUM(B20:J20) -> 1831658
A21: Delmas 53 | B21: 0 | C21: 0 | D21: 0 | E21: 0 | F21: 0 | G21: 20518 | H21: 0 | I21: 0 | J21: 0 | K21: =SUM(B21:J21) -> 20518
A22: Delmas 56 | B22: 0 | C22: 0 | D22: 0 | E22: 0 | F22: 0 | G22: 0 | H22: 377201.34 | I22: 0 | J22: 0 | K22: =SUM(B22:J22) -> 377201.34
A23: Delmas 48 | B23: 0 | C23: 0 | D23: 0 | E23: 449878.05 | F23: 0 | G23: 0 | H23: 0 | I23: 0 | J23: 0 | K23: =SUM(B23:J23) -> 449878.05
A24: Delmas-Aéroport | B24: 0 | C24: 0 | D24: 0 | E24: 613765.87 | F24: 0 | G24: 0 | H24: 0 | I24: 0 | J24: 0 | K24: =SUM(B24:J24) -> 613765.87
A25: Delmas 16 | B25: 0 | C25: 0 | D25: 0 | E25: 0 | F25: 279115.8 | G25: 0 | H25: 0 | I25: 0 | J25: 0 | K25: =SUM(B25:J25) -> 279115.8
A26: Delmas 71 | B26: 0 | C26: 0 | D26: 0 | E26: 0 | F26: 1803644.6 | G26: 0 | H26: 0 | I26: 0 | J26: 0 | K26: =SUM(B26:J26) -> 1803644.6
A27: Kiosque Mégamart | B27: 0 | C27: 0 | D27: 0 | E27: 0 | F27: 928.85858 | G27: 0 | H27: 0 | I27: 0 | J27: 0 | K27: =SUM(B27:J27) -> 928.85858
A28: Pétion-Ville | B28: =SUM(B29:B32) -> 3189232.9 | C28: 838511.88 | D28: 779045.79 | E28: =SUM(E29:E34) -> 2953395.9 | F28: =SUM(F29:F34) -> 8266623.4 | G28: =SUM(G29:G34) -> 1608053 | H28: 0 | I28: 0 | J28: 1535700 | K28: =SUM(B28:J28) -> 19170563
A29: P-V 1 | B29: 2112310.3 | C29: 0 | D29: 0 | E29: 908164.98 | F29: 4885087.1 | G29: 959848 | H29: 0 | I29: 0 | J29: 0 | K29: =SUM(B29:J29) -> 8865410.3
A30: Place Boyer | B30: 319384.55 | C30: 0 | D30: 0 | E30: 0 | F30: 0 | G30: 217131 | H30: 0 | I30: 0 | J30: 0 | K30: =SUM(B30:J30) -> 536515.55
A31: Choucoune Plaza | B31: 634114.36 | C31: 0 | D31: 0 | E31: 0 | F31: 0 | G31: 0 | H31: 0 | I31: 0 | J31: 0 | K31: =SUM(B31:J31) -> 634114.36
A32: P-V 2 | B32: 123423.7 | C32: 0 | D32: 0 | E32: 112724.04 | F32: 981383.75 | G32: 431074 | H32: 0 | I32: 0 | J32: 0 | K32: =SUM(B32:J32) -> 1648605.5
A33: P-V 3 | B33: 0 | C33: 0 | D33: 0 | E33: 1446502.8 | F33: 2400152.5 | G33: 0 | H33: 0 | I33: 0 | J33: 0 | K33: =SUM(B33:J33) -> 3846655.4
A34: P-V 4 | B34: 0 | C34: 0 | D34: 0 | E34: 486004.08 | F34: 0 | G34: 0 | H34: 0 | I34: 0 | J34: 0 | K34: =SUM(B34:J34) -> 486004.08
A35: Lalue | B35: 417857.62 | C35: 0 | D35: 43017.733 | E35: 411930.01 | F35: 404281.6 | G35: 0 | H35: 0 | I35: 0 | J35: 0 | K35: =SUM(B35:J35) -> 1277087
A36: Champs de Mars | B36: 254312.48 | C36: 0 | D36: 0 | E36: 322245.62 | F36: 0 | G36: 0 | H36: 0 | I36: 0 | J36: 0 | K36: =SUM(B36:J36) -> 576558.1
A37: Laboule | B37: 0 | C37: 0 | D37: 0 | E37: 0 | F37: 26169.653 | G37: 113225 | H37: 0 | I37: 0 | J37: 0 | K37: =SUM(B37:J37) -> 139394.65
A38: Aéroport | B38: 79551.859 | C38: 33275.417 | D38: 0 | E38: 1325067.2 | F38: 360298.6 | G38: 370540 | H38: 0 | I38: 0 | J38: 0 | K38: =SUM(B38:J38) -> 2168733
A39: Aéroport 2 | B39: 0 | C39: 0 | D39: 0 | E39: 423841.51 | F39: 0 | G39: 38092 | H39: 0 | I39: 0 | J39: 0 | K39: =SUM(B39:J39) -> 461933.51
A40: Carrefour | B40: =SUM(B41:B42) -> 119686.62 | C40: 0 | D40: 71203.198 | E40: =SUM(E41:E43) -> 84105.662 | F40: 0 | G40: 25022 | H40: 0 | I40: 0 | J40: 279733 | K40: =SUM(B40:J40) -> 579750.48
A41: Arcachon | B41: 49214.444 | C41: 0 | D41: 0 | E41: 0 | F41: 0 | G41: 0 | H41: 0 | I41: 0 | J41: 0 | K41: =SUM(B41:J41) -> 49214.444
A42: Carrefour | B42: 70472.174 | C42: 0 | D42: 0 | E42: 60492.902 | F42: 0 | G42: 0 | H42: 0 | I42: 0 | J42: 0 | K42: =SUM(B42:J42) -> 130965.08
A43: Truitiers | B43: 0 | C43: 0 | D43: 0 | E43: 23612.76 | F43: 0 | G43: 0 | H43: 0 | I43: 0 | J43: 0 | K43: =SUM(B43:J43) -> 23612.76
A44: Thor | B44: 0 | C44: 0 | D44: 0 | E44: 0 | F44: 92892.415 | G44: 0 | H44: 0 | I44: 0 | J44: 0 | K44: =SUM(B44:J44) -> 92892.415
...

Sheet  dépôts d'épargne
A1: RÉPARTITION GÉOGRAPHIQUE DES COMPTES DE DÉPÔTS D'ÉPARGNE PAR BANQUE, PAR SUCCURSALES ET PAR AGENCES
A2: (EN MILLIERS DE GOURDES)
A3: AU 31 DÉCEMBRE 2014
A6: PORT-AU-PRINCE ET SES ENVIRONS
B8: BNC | C8: BPH | D8: BUH | E8: SOGEBK | F8: UNIBK | G8: CAPITALBK | H8: SOGEBL | I8: CBNA | J8: SCOTIA | K8: TOTAL
A10: Siège Social | B10: 1005587.5 | C10: 168493.93 | D10: 279616.7 | E10: 1229100.2 | F10: 2060038.7 | G10: 396305 | H10: 182935.64 | I10: 294638 | J10: 520343 | K10: =SUM(B10:J10) -> 6137058.7
A11: Place Geffrard | B11: 0 | C11: 0 | D11: 0 | E11: 1941287.1 | F11: 0 | G11: 0 | H11: 0 | I11: 0 | J11: 0 | K11: =SUM(B11:J11) -> 1941287.1
A12: Place Geffrard 2 | B12: 0 | C12: 0 | E12: 0 | F12: 0 | G12: 0 | H12: 0 | I12: 0 | J12: 0 | K12: =SUM(B12:J12) -> 0
A13: Rue Pavée II | B13: =SUM(B14:B15) -> 390611.51 | C13: 0 | D13: 0 | E13: 490376.95 | F13: 0 | G13: 0 | H13: 0 | I13: 0 | J13: 0 | K13: =SUM(B13:J13) -> 880988.46
A14: Pavée 1 | B14: 197845.81 | C14: 0 | D14: 0 | E14: 0 | F14: 0 | G14: 0 | H14: 0 | I14: 0 | J14: 0 | K14: =SUM(B14:J14) -> 197845.81
A15: Pavée 2 | B15: 192765.7 | C15: 0 | D15: 0 | E15: 0 | F15: 0 | G15: 0 | H15: 0 | I15: 0 | J15: 0 | K15: =SUM(B15:J15) -> 192765.7
A16: Delmas | B16: =SUM(B17:B21) -> 695534.61 | C16: 31111.023 | D16: 0 | E16: =SUM(E17:E24) -> 1103019.5 | F16: =SUM(F17:F27) -> 2547633.3 | G16: =SUM(G17:G21) -> 327967 | H16: =SUM(H17:H27) -> 169414.94 | I16: 0 | J16: 367273 | K16: =SUM(B16:J16) -> 5241953.4
A17: Delmas 52 | B17: 304405.84 | C17: 0 | D17: 0 | E17: 0 | F17: 0 | G17: 0 | H17: 0 | I17: 0 | J17: 0 | K17: =SUM(B17:J17) -> 304405.84
A18: Delmas 2 | B18: 273070.64 | C18: 0 | D18: 0 | E18: 0 | F18: 0 | G18: 0 | H18: 0 | I18: 0 | J18: 0 | K18: =SUM(B18:J18) -> 273070.64
A19: Delmas K-Dis | B19: 0 | C19: 0 | D19: 0 | E19: 0 | F19: 0 | G19: 319339 | H19: 0 | I19: 0 | J19: 0 | K19: =SUM(B19:J19) -> 319339
A20: Delmas 32 | B20: 118058.12 | C20: 0 | D20: 0 | E20: 0 | F20: 1297953.9 | G20: 0 | H20: 0 | I20: 0 | J20: 0 | K20: =SUM(B20:J20) -> 1416012
A21: Delmas 53 | B21: 0 | C21: 0 | D21: 0 | E21: 0 | F21: 0 | G21: 8628 | H21: 0 | I21: 0 | J21: 0 | K21: =SUM(B21:J21) -> 8628
A22: Delmas 56 | B22: 0 | C22: 0 | D22: 0 | E22: 0 | F22: 0 | G22: 0 | H22: 169414.94 | I22: 0 | J22: 0 | K22: =SUM(B22:J22) -> 169414.94
A23: Delmas 48 | B23: 0 | C23: 0 | D23: 0 | E23: 328435.37 | F23: 0 | G23: 0 | H23: 0 | I23: 0 | J23: 0 | K23: =SUM(B23:J23) -> 328435.37
A24: Delmas-Aéroport | B24: 0 | C24: 0 | D24: 0 | E24: 774584.09 | F24: 0 | G24: 0 | H24: 0 | I24: 0 | J24: 0 | K24: =SUM(B24:J24) -> 774584.09
A25: Delmas 16 | B25: 0 | C25: 0 | D25: 0 | E25: 0 | F25: 551609.36 | G25: 0 | H25: 0 | I25: 0 | J25: 0 | K25: =SUM(B25:J25) -> 551609.36
A26: Delmas 71 | B26: 0 | C26: 0 | D26: 0 | E26: 0 | F26: 685910.86 | G26: 0 | H26: 0 | I26: 0 | J26: 0 | K26: =SUM(B26:J26) -> 685910.86
A27: Kiosque Mégamart | B27: 0 | C27: 0 | D27: 0 | E27: 0 | F27: 12159.208 | G27: 0 | H27: 0 | I27: 0 | J27: 0 | K27: =SUM(B27:J27) -> 12159.208
A28: Pétion-Ville | B28: =SUM(B29:B32) -> 937130.66 | C28: 222467.75 | D28: 358706.69 | E28: =SUM(E29:E34) -> 2687102.7 | F28: =SUM(F29:F34) -> 2024530.6 | G28: =SUM(G29:G32) -> 732081 | H28: 0 | I28: 0 | J28: 498168 | K28: =SUM(B28:J28) -> 7460187.4
A29: P-V 1 | B29: 368503.88 | C29: 0 | D29: 0 | E29: 1078964.7 | F29: 1546681.9 | G29: 361946 | H29: 0 | I29: 0 | J29: 0 | K29: =SUM(B29:J29) -> 3356096.5
A30: Place Boyer | B30: 212738.87 | C30: 0 | D30: 0 | E30: 0 | F30: 0 | G30: 125769 | H30: 0 | I30: 0 | J30: 0 | K30: =SUM(B30:J30) -> 338507.87
A31: Choucoune Plaza | B31: 288518.67 | C31: 0 | D31: 0 | E31: 0 | F31: 0 | G31: 0 | H31: 0 | I31: 0 | J31: 0 | K31: =SUM(B31:J31) -> 288518.67
A32: P-V 2 | B32: 67369.232 | C32: 0 | D32: 0 | E32: 236788.74 | F32: 164573.99 | G32: 244366 | H32: 0 | I32: 0 | J32: 0 | K32: =SUM(B32:J32) -> 713097.96
A33: P-V 3 | B33: 0 | C33: 0 | D33: 0 | E33: 862681.73 | F33: 313274.69 | G33: 0 | H33: 0 | I33: 0 | J33: 0 | K33: =SUM(B33:J33) -> 1175956.4
A34: P-V 4 | B34: 0 | C34: 0 | D34: 0 | E34: 508667.55 | F34: 0 | G34: 0 | H34: 0 | I34: 0 | J34: 0 | K34: =SUM(B34:J34) -> 508667.55
A35: Lalue | B35: 208058.29 | C35: 0 | D35: 128154.09 | E35: 975838.37 | F35: 674699.69 | G35: 0 | H35: 0 | I35: 0 | J35: 0 | K35: =SUM(B35:J35) -> 1986750.4
A36: Champs de Mars | B36: 294415.47 | C36: 0 | D36: 0 | E36: 408596.36 | F36: 0 | G36: 0 | H36: 0 | I36: 0 | J36: 0 | K36: =SUM(B36:J36) -> 703011.83
A37: Laboule | B37: 0 | C37: 0 | D37: 0 | E37: 0 | F37: 67037.554 | G37: 191491 | H37: 0 | I37: 0 | J37: 0 | K37: =SUM(B37:J37) -> 258528.55
A38: Aéroport | B38: 70044.019 | C38: 20675.475 | D38: 0 | E38: 435622.63 | F38: 136024.73 | G38: 210216 | H38: 0 | I38: 0 | J38: 0 | K38: =SUM(B38:J38) -> 872582.85
A39: Aéroport 2 | B39: 0 | C39: 0 | D39: 0 | E39: 367131.37 | F39: 0 | G39: 26982 | H39: 0 | I39: 0 | J39: 0 | K39: =SUM(B39:J39) -> 394113.37
A40: Carrefour | B40: =SUM(B41:B42) -> 453350.31 | C40: 0 | D40: 94589.651 | E40: =SUM(E41:E43) -> 868632.33 | F40: 0 | G40: 95038 | H40: 0 | I40: 0 | J40: 303445 | K40: =SUM(B40:J40) -> 1815055.3
A41: Arcachon | B41: 253655.74 | C41: 0 | D41: 0 | E41: 0 | F41: 0 | G41: 0 | H41: 0 | I41: 0 | J41: 0 | K41: =SUM(B41:J41) -> 253655.74
A42: Carrefour | B42: 199694.57 | C42: 0 | D42: 0 | E42: 539292.72 | F42: 0 | G42: 0 | H42: 0 | I42: 0 | J42: 0 | K42: =SUM(B42:J42) -> 738987.29
A43: Truitiers | B43: 0 | C43: 0 | D43: 0 | E43: 329339.61 | F43: 0 | G43: 0 | H43: 0 | I43: 0 | J43: 0 | K43: =SUM(B43:J43) -> 329339.61
A44: Thor | B44: 0 | C44: 0 | D44: 0 | E44: 0 | F44: 527851.49 | G44: 0 | H44: 0 | I44: 0 | J44: 0 | K44: =SUM(B44:J44) -> 527851.49
...

Sheet  dépôts à terme
A1: RÉPARTITION GÉOGRAPHIQUE DES COMPTES DE DÉPÔTS À TERME PAR BANQUE, PAR SUCCURSALES ET PAR AGENCES
A2: (EN MILLIERS DE GOURDES)
A3: AU 31 DÉCEMBRE 2014
A6: PORT-AU-PRINCE ET SES ENVIRONS
B8: BNC | C8: BPH | D8: BUH | E8: SOGEBK | F8: UNIBK | G8: CAPITALBK | H8: SOGEBL | I8: CBNA | J8: SCOTIA | K8: TOTAL
A10: Siège Social | B10: 576776.49 | C10: 184033.82 | D10: 81940.298 | E10: 4048096.7 | F10: 87603.707 | G10: =+[1]Annexe14!$F$29 -> 1278050 | H10: 2620873.9 | I10: 381091 | J10: 108688 | K10: =SUM(B10:J10) -> 9367153.9
A11: Place Geffrard | B11: 0 | C11: 0 | D11: 0 | E11: 475057.49 | F11: 0 | G11: 0 | H11: 0 | I11: 0 | J11: 0 | K11: =SUM(B11:J11) -> 475057.49
A12: Place Geffrard 2 | B12: 0 | C12: 0 | D12: 0 | E12: 0 | F12: 0 | G12: 0 | H12: 0 | I12: 0 | J12: 0 | K12: =SUM(B12:J12) -> 0
A13: Rue Pavée II | B13: =SUM(B14:B15) -> 84860.647 | C13: 0 | D13: 0 | E13: 171593.55 | F13: 0 | G13: 0 | H13: 0 | I13: 0 | J13: 0 | K13: =SUM(B13:J13) -> 256454.2
A14: Pavée 1 | B14: 52285.025 | C14: 0 | D14: 0 | E14: 0 | F14: 0 | G14: 0 | H14: 0 | I14: 0 | J14: 0 | K14: =SUM(B14:J14) -> 52285.025
A15: Pavée 2 | B15: 32575.622 | C15: 0 | D15: 0 | E15: 0 | F15: 0 | G15: 0 | H15: 0 | I15: 0 | J15: 0 | K15: =SUM(B15:J15) -> 32575.622
A16: Delmas | B16: =SUM(B17:B27) -> 219989.9 | C16: 2967.5568 | D16: 0 | E16: =SUM(E17:E24) -> 1346490.9 | F16: =SUM(F17:F27) -> 473279.75 | G16: =SUM(G17:G27) -> 49334 | H16: =SUM(H17:H22) -> 223368.8 | I16: 0 | J16: 86363 | K16: =SUM(B16:J16) -> 2401794
A17: Delmas 52 | B17: 111037.15 | C17: 0 | D17: 0 | E17: 0 | F17: 0 | G17: 0 | H17: 0 | I17: 0 | J17: 0 | K17: =SUM(B17:J17) -> 111037.15
A18: Delmas 2 | B18: 99213.182 | C18: 0 | D18: 0 | E18: 0 | F18: 0 | G18: 0 | H18: 0 | I18: 0 | J18: 0 | K18: =SUM(B18:J18) -> 99213.182
A19: Delmas K-Dis | B19: 0 | C19: 0 | D19: 0 | E19: 0 | F19: 0 | G19: =+[1]Annexe14!$F$30 -> 49334 | H19: 0 | I19: 0 | J19: 0 | K19: =SUM(B19:J19) -> 49334
A20: Delmas 32 | B20: 9739.5713 | C20: 0 | D20: 0 | E20: 0 | F20: 136461.81 | G20: 0 | H20: 0 | I20: 0 | J20: 0 | K20: =SUM(B20:J20) -> 146201.38
A21: Delmas 55 | B21: 0 | C21: 0 | D21: 0 | E21: 0 | F21: 0 | G21: 0 | H21: 0 | I21: 0 | J21: 0 | K21: =SUM(B21:J21) -> 0
A22: Delmas 56 | B22: 0 | C22: 0 | D22: 0 | E22: 0 | F22: 0 | G22: 0 | H22: 223368.8 | I22: 0 | J22: 0 | K22: =SUM(B22:J22) -> 223368.8
A23: Delmas 48 | B23: 0 | C23: 0 | D23: 0 | E23: 71377.842 | F23: 0 | G23: 0 | H23: 0 | I23: 0 | J23: 0 | K23: =SUM(B23:J23) -> 71377.842
A24: Delmas-Aéroport | B24: 0 | C24: 0 | D24: 0 | E24: 1275113.1 | F24: 0 | G24: 0 | H24: 0 | I24: 0 | J24: 0 | K24: =SUM(B24:J24) -> 1275113.1
A25: Delmas 16 | B25: 0 | C25: 0 | D25: 0 | E25: 0 | F25: 94394.207 | G25: 0 | H25: 0 | I25: 0 | J25: 0 | K25: =SUM(B25:J25) -> 94394.207
A26: Delmas 71 | B26: 0 | C26: 0 | D26: 0 | E26: 0 | F26: 242423.74 | G26: 0 | H26: 0 | I26: 0 | J26: 0 | K26: =SUM(B26:J26) -> 242423.74
A27: Kiosque Mégamart | B27: 0 | C27: 0 | D27: 0 | E27: 0 | F27: 0 | G27: 0 | H27: 0 | I27: 0 | J27: 0 | K27: =SUM(B27:J27) -> 0
A28: Pétion-Ville | B28: =SUM(B29:B32) -> 869125.04 | C28: 678695.98 | D28: 466073.34 | E28: =SUM(E29:E34) -> 893917.88 | F28: =SUM(F29:F34) -> 2931540.8 | G28: =SUM(G29:G34) -> 693757 | H28: 0 | I28: 0 | J28: 60332 | K28: =SUM(B28:J28) -> 6593442
A29: P-V 1 | B29: 139899.51 | C29: 0 | D29: 0 | E29: 544562.29 | F29: 1699630.4 | G29: =+[1]Annexe14!$F$32 -> 494051 | H29: 0 | I29: 0 | J29: 0 | K29: =SUM(B29:J29) -> 2878143.2
A30: Place Boyer | B30: 70862.958 | C30: 0 | D30: 0 | E30: 0 | F30: 0 | G30: =+[1]Annexe14!$F$31 -> 60014 | H30: 0 | I30: 0 | J30: 0 | K30: =SUM(B30:J30) -> 130876.96
A31: Choucoune Plaza | B31: 652750.47 | C31: 0 | D31: 0 | E31: 0 | F31: 0 | G31: 0 | H31: 0 | I31: 0 | J31: 0 | K31: =SUM(B31:J31) -> 652750.47
A32: P-V 2 | B32: 5612.1084 | C32: 0 | D32: 0 | E32: 19858.556 | F32: 912544.95 | G32: =+[1]Annexe14!$F$33 -> 139692 | H32: 0 | I32: 0 | J32: 0 | K32: =SUM(B32:J32) -> 1077707.6
A33: P-V 3 | B33: 0 | C33: 0 | D33: 0 | E33: 234999.2 | F33: 319365.47 | G33: 0 | H33: 0 | I33: 0 | J33: 0 | K33: =SUM(B33:J33) -> 554364.67
A34: P-V 4 | B34: 0 | C34: 0 | D34: 0 | E34: 94497.825 | F34: 0 | G34: 0 | H34: 0 | I34: 0 | J34: 0 | K34: =SUM(B34:J34) -> 94497.825
A35: Lalue | B35: 33312.245 | C35: 0 | D35: 83062.521 | E35: 234988.86 | F35: 182754.15 | G35: 0 | H35: 0 | I35: 0 | J35: 0 | K35: =SUM(B35:J35) -> 534117.77
A36: Champs de Mars | B36: 21293.948 | C36: 0 | D36: 0 | E36: 289083.09 | F36: 0 | G36: 0 | H36: 0 | I36: 0 | J36: 0 | K36: =SUM(B36:J36) -> 310377.04
A37: Laboule | B37: 0 | C37: 0 | D37: 0 | E37: 0 | F37: 10358.03 | G37: =+[1]Annexe14!$F$34 -> 17508 | H37: 0 | I37: 0 | J37: 0 | K37: =SUM(B37:J37) -> 27866.03
A38: Aéroport | B38: 12821.15 | C38: 0 | D38: 0 | E38: 194398.39 | F38: 20025.215 | G38: =+[1]Annexe14!$F$35 -> 39763 | H38: 0 | I38: 0 | J38: 0 | K38: =SUM(B38:J38) -> 267007.75
A39: Aéroport 2 | B39: 0 | C39: 0 | D39: 0 | E39: 50918.08 | F39: 0 | G39: =+[1]Annexe14!$F$44 -> 8429 | H39: 0 | I39: 0 | J39: 0 | K39: =SUM(B39:J39) -> 59347.08
A40: Carrefour | B40: =SUM(B41:B42) -> 46188.426 | C40: 0 | D40: 270564.57 | E40: =SUM(E41:E43) -> 344155.58 | F40: 0 | G40: =+[1]Annexe14!$F$36 -> 33874 | H40: 0 | I40: 0 | J40: 70220 | K40: =SUM(B40:J40) -> 765002.58
A41: Arcachon | B41: 17552.116 | C41: 0 | D41: 0 | E41: 0 | F41: 0 | G41: 0 | H41: 0 | I41: 0 | J41: 0 | K41: =SUM(B41:J41) -> 17552.116
A42: Carrefour | B42: 28636.31 | C42: 0 | D42: 0 | E42: 191237.39 | F42: 0 | G42: 0 | H42: 0 | I42: 0 | J42: 0 | K42: =SUM(B42:J42) -> 219873.7
A43: Truitiers | B43: 0 | C43: 0 | D43: 0 | E43: 152918.19 | F43: 0 | G43: 0 | H43: 0 | I43: 0 | J43: 0 | K43: =SUM(B43:J43) -> 152918.19
A44: Thor | B44: 0 | C44: 0 | D44: 0 | E44: 0 | F44: 130332.28 | G44: 0 | H44: 0 | I44: 0 | J44: 0 | K44: =SUM(B44:J44) -> 130332.28
...

Sheet pageintsect2
A16: SECTION 2
A19: SOMMAIRE FINANCIER - SYSTÈME BANCAIRE

Sheet sofiinfisys
A1: SYSTÈME BANCAIRE
A2: SOMMAIRE FINANCIER
A3: INDICATEURS FINANCIERS
I5: Var. déc. 14 | J5: SEPTEMBRE
B6: Déc. 14 | C6: Var. | D6: Mars 15 | E6: Var. | F6: Juin 15 | G6: Var. | H6: Sept. 15 | I6: /sept. 14 | J6: 2014 | K6: Var. | L6: 2013 | M6: Var. | N6: 2012 | O6: Var. | P6: 2011
P7: .
A8: FAITS SAILLANTS FINANCIERS
A9: (En milliers de gourdes)
A11: Bilan
A12: Actif | B12: =+somfinbilsys!B23 -> 1.9480072e+08 | C12: 0 | D12: =+somfinbilsys!D23 -> 0 | E12: 0 | F12: =+somfinbilsys!F23 -> 0 | G12: 0 | H12: =+somfinbilsys!H23 -> 0 | I12: =+(B12-J12)/ABS(J12) -> 0.0015373904 | J12: =+somfinbilsys!J23 -> 1.945017e+08 | K12: =+(-L12+J12)/ABS(L12) -> 0.10555024 | L12: =+somfinbilsys!L23 -> 1.7593203e+08 | M12: =+(-N12+L12)/ABS(N12) -> 0.031522379 | N12: =+somfinbilsys!N23 -> 1.7055571e+08 | O12: =+(-P12+N12)/ABS(P12) -> 0.10753835 | P12: =+somfinbilsys!P23 -> 1.539953e+08
A13: Bons B.R.H. | B13: =+somfinbilsys!B17 -> 6608224 | C13: 0 | D13: =+somfinbilsys!D17 -> 0 | E13: 0 | F13: =+somfinbilsys!F17 -> 0 | G13: 0 | H13: =+somfinbilsys!H17 -> 0 | I13: =+(B13-J13)/ABS(J13) -> 0.46570775 | J13: =+somfinbilsys!J17 -> 4508555 | K13: =+(-L13+J13)/ABS(L13) -> -0.24162046 | L13: =+somfinbilsys!L17 -> 5944985 | M13: =+(-N13+L13)/ABS(N13) -> -0.051754811 | N13: =+somfinbilsys!N17 -> 6269459.7 | O13: =+(-P13+N13)/ABS(P13) -> -0.0092383911 | P13: =+somfinbilsys!P17 -> 6327919.5
A14: Prêts Nets | B14: =+somfinbilsys!B20 -> 69792589 | C14: 0 | D14: =+somfinbilsys!D20 -> 0 | E14: 0 | F14: =+somfinbilsys!F20 -> 0 | G14: 0 | H14: =+somfinbilsys!H20 -> 0 | I14: =+(B14-J14)/ABS(J14) -> 0.023678247 | J14: =+somfinbilsys!J20 -> 68178247 | K14: =+(-L14+J14)/ABS(L14) -> 0.096713143 | L14: =+somfinbilsys!L20 -> 62165980 | M14: =+(-N14+L14)/ABS(N14) -> 0.19872312 | N14: =+somfinbilsys!N20 -> 51860166 | O14: =+(-P14+N14)/ABS(P14) -> 0.34014931 | P14: =+somfinbilsys!P20 -> 38697304
A15: Dépôts | B15: =+somfinbilsys!B30 -> 1.585611e+08 | C15: 0 | D15: =+somfinbilsys!D30 -> 0 | E15: 0 | F15: =+somfinbilsys!F30 -> 0 | G15: 0 | H15: =+somfinbilsys!H30 -> 0 | I15: =+(B15-J15)/ABS(J15) -> 0.0064232242 | J15: =+somfinbilsys!J30 -> 1.5754912e+08 | K15: =+(-L15+J15)/ABS(L15) -> 0.081726794 | L15: =+somfinbilsys!L30 -> 1.4564595e+08 | M15: =+(-N15+L15)/ABS(N15) -> -0.008118797 | N15: =+somfinbilsys!N30 -> 1.4683809e+08 | O15: =+(-P15+N15)/ABS(P15) -> 0.083284268 | P15: =+somfinbilsys!P30 -> 1.35549e+08
A16: Avoir des Actionnaires | B16: =+somfinbilsys!B52 -> 15511054 | C16: 0 | D16: =+somfinbilsys!D52 -> 0 | E16: 0 | F16: =+somfinbilsys!F52 -> 0 | G16: 0 | H16: =+somfinbilsys!H52 -> 0 | I16: =+(B16-J16)/ABS(J16) -> 0.051562227 | J16: =+somfinbilsys!J52 -> 14750486 | K16: =+(-L16+J16)/ABS(L16) -> 0.12910159 | L16: =+somfinbilsys!L52 -> 13063914 | M16: =+(-N16+L16)/ABS(N16) -> 0.19663519 | N16: =+somfinbilsys!N52 -> 10917207 | O16: =+(-P16+N16)/ABS(P16) -> 0.14864348 | P16: =+somfinbilsys!P52 -> 9504434.4
B20: 2015 | D20: 2014 | F20: 2015 | H20: 2014 | J20: 2015 | L20: 2014 | N20: 2015 | P20: 2014 | R20: 2015 | T20: 2014
B21: TRIM 1 | C21: Var. | D21: TRIM 1 | F21: TRIM 2 | G21: Var. | H21: TRIM 2 | J21: TRIM 3 | K21: Var. | L21: TRIM 3 | N21: TRIM 4 | O21: Var. | P21: TRIM 4 | R21: CUMUL | S21: Var. | T21: CUMUL
B22: (oct. - déc. 14) | D22: (oct. - déc. 13) | F22: (janv. - mars 15) | H22: (janv. - mars 14) | J22: (avril - juin 15) | L22: (avril - juin 14) | N22: (juil. - sept. 15) | P22: (juil. - sept. 14) | R22: (oct. - déc. 14) | T22: (oct. - déc. 13)
A23: Résultats
A24: Revenus nets d'intérêt | B24: =+somfinrésys!B55 -> 1543948.8 | C24: =+(-D24+B24)/ABS(D24) -> 0.19261227 | D24: =+somfinrésys!D55 -> 1294594.1 | F24: =+somfinrésys!F55 -> 0 | G24: 0 | H24: =+somfinrésys!H55 -> 1257049 | J24: =+somfinrésys!J55 -> 0 | K24: 0 | L24: =+somfinrésys!L55 -> 1414378.9 | N24: =+somfinrésys!N55 -> 0 | O24: 0 | P24: =+somfinrésys!P55 -> 1438729.4 | R24: =+somfinrésys!R55 -> 1543948.8 | S24: =+(-T24+R24)/T24 -> 0.19261227 | T24: =+somfinrésys!T55 -> 1294594.1
A25: Autres revenus | B25: =+somfinrésys!B61 -> 1266335.8 | C25: =+(-D25+B25)/ABS(D25) -> 0.15941239 | D25: =+somfinrésys!D61 -> 1092222.1 | F25: =+somfinrésys!F61 -> 0 | G25: 0 | H25: =+somfinrésys!H61 -> 1280507.2 | J25: =+somfinrésys!J61 -> 0 | K25: 0 | L25: =+somfinrésys!L61 -> 1489120.7 | N25: =+somfinrésys!N61 -> 0 | O25: 0 | P25: =+somfinrésys!P61 -> 1562770.4 | R25: =+somfinrésys!R61 -> 1266335.8 | S25: =+(-T25+R25)/T25 -> 0.15941239 | T25: =+somfinrésys!T61 -> 1092222.1
A26: Dot. à la provision pr créances douteuses | B26: =+somfinrésys!B65 -> 144566.42 | C26: =+(-D26+B26)/ABS(D26) -> 0.2028139 | D26: =+somfinrésys!D65 -> 120190.18 | F26: =+somfinrésys!F65 -> 0 | G26: 0 | H26: =+somfinrésys!H65 -> 167255.62 | J26: =+somfinrésys!J65 -> 0 | K26: 0 | L26: =+somfinrésys!L65 -> 151939.96 | N26: =+somfinrésys!N65 -> 0 | O26: 0 | P26: =+somfinrésys!P65 -> 200908.84 | R26: =+somfinrésys!R65 -> 144566.42 | S26: =+(-T26+R26)/T26 -> 0.2028139 | T26: =+somfinrésys!T65 -> 120190.18
A27: Dépenses d'exploitation | B27: =+somfinrésys!B75 -> 1800367.1 | C27: =+(-D27+B27)/ABS(D27) -> 0.12630614 | D27: =+somfinrésys!D75 -> 1598470.5 | F27: =+somfinrésys!F75 -> 0 | G27: 0 | H27: =+somfinrésys!H75 -> 1672456.2 | J27: =+somfinrésys!J75 -> 0 | K27: 0 | L27: =+somfinrésys!L75 -> 1737981.8 | N27: =+somfinrésys!N75 -> 0 | O27: 0 | P27: =+somfinrésys!P75 -> 1968355.4 | R27: =+somfinrésys!R75 -> 1800367.1 | S27: =+(-T27+R27)/T27 -> 0.12630614 | T27: =+somfinrésys!T75 -> 1598470.5
A28: Bénéfice net | B28: =+somfinrésys!B81 -> 752527.07 | C28: =+(-D28+B28)/ABS(D28) -> 0.2894832 | D28: =+somfinrésys!D81 -> 583588.12 | F28: =+somfinrésys!F81 -> 0 | G28: 0 | H28: =+somfinrésys!H81 -> 642432.59 | J28: =+somfinrésys!J81 -> 0 | K28: 0 | L28: =+somfinrésys!L81 -> 882822.37 | N28: =+somfinrésys!N81 -> 0 | O28: 0 | P28: =+somfinrésys!P81 -> 743188.68 | R28: =+somfinrésys!R81 -> 752527.07 | S28: =+(-T28+R28)/T28 -> 0.2894832 | T28: =+somfinrésys!T81 -> 583588.12
B33: 2015 | C33: 2014 | E33: 2015 | F33: 2014 | H33: 2015 | I33: 2014 | K33: 2015 | L33: 2014 | N33: 2015 | O33: 2014
B34: TRIM 1 | C34: TRIM 1 | E34: TRIM 2 | F34: TRIM 2 | H34: TRIM 3 | I34: TRIM 3 | K34: TRIM 4 | L34: TRIM 4 | N34: CUMUL | O34: CUMUL | Q34: ANNÉE
B35: (oct. - déc. 14) | C35: (oct. - déc. 13) | E35: (janv. - mars 15) | F35: (janv. - mars 14) | H35: (avril - juin 15) | I35: (avril - juin 14) | K35: (juil. - sept. 15) | L35: (juil. - sept. 14) | N35: =+R22 -> (oct. - déc. 14) | O35: =+T22 -> (oct. - déc. 13) | Q35: 2014 | R35: 2013 | S35: 2012 | T35: 2011
A36: RATIOS FINANCIERS CLÉS
A37: (Données trimestrielles
A38: annualisées et cumul)
A40: Structure financière
A42: Avoir des actionnaires
A43: en % de l'actif | B43: =+somfinbilsys!B52/somfinbilsys!B23 -> 0.079625237 | C43: 0.0782 | E43: 0 | F43: 0.07700435 | H43: 0 | I43: 0.076357408 | K43: 0 | L43: 0.0758 | N43: =+B43 -> 0.079625237 | O43: =C43 -> 0.0782 | Q43: 0.0758 | R43: 0.07425546 | S43: 0.064 | T43: 0.061718989
A45: Dépôts en % de l'actif | B45: =+somfinbilsys!B30/somfinbilsys!B23 -> 0.81396566 | C45: 0.825 | E45: 0 | F45: 0.83253311 | H45: 0 | I45: 0.82270654 | K45: 0 | L45: 0.81001414 | N45: =+B45 -> 0.81396566 | O45: =C45 -> 0.825 | Q45: 0.81 | R45: 0.82785351 | S45: 0.8609 | T45: 0.88021512
A47: Qualité de l'actif
A49: Prêts improductifs bruts
A50: en % des prêts bruts | B50: =+somfinbilsys!B63/somfinbilsys!B61 -> 0.042586032 | C50: 0.042657882 | E50: 0 | F50: 0.04643505 | H50: 0 | I50: 0.032754165 | K50: 0 | L50: 0.03 | N50: =+B50 -> 0.042586032 | O50: =C50 -> 0.042657882 | Q50: 0.03 | R50: 0.024348233 | S50: 0.0242 | T50: 0.036939108
A52: Provisions pour créances douteuses
A53: en % des prêts improductifs bruts | B53: =+somfinbilsys!B62/somfinbilsys!B63 -> 0.54883729 | C53: 0.41541852 | E53: 0 | F53: 0.46485221 | H53: 0 | I53: 0.69334483 | K53: 0 | L53: 0.7208 | N53: =+B53 -> 0.54883729 | O53: =C53 -> 0.41541852 | Q53: 0.7208 | R53: 0.72189271 | S53: 0.9666 | T53: 0.93104986
A55: Prêts improductifs nets
A56: en % de l'avoir des actionnaires (tx. d'exposition) | B56: =+(somfinbilsys!B63-somfinbilsys!B62)/somfinbilsys!B52 -> 0.088519626 | C56: 0.1175 | E56: 0 | F56: 0.11661074 | H56: 0 | I56: 0.047105493 | K56: 0 | L56: 0.0395 | N56: =+B56 -> 0.088519626 | O56: =C56 -> 0.1175 | Q56: 0.0395 | R56: 0.032799007 | S56: 0.0039 | T56: 0.010739281
...

Sheet partdemarc. 
A1: SYSTÈME BANCAIRE
A2: SOMMAIRE FINANCIER
A3: PARTS DE MARCHÉ
A4: (En milliers de gourdes et en pourcentage)
A7: AU 31 DÉCEMBRE 2014
B8: ACTIF | F8: PRÊTS BRUTS | J8: DÉPÔTS TOTAUX | N8: DÉPÔTS US
B9: Montant | C9: % | D9: Rang | F9: Montant | G9: % | H9: Rang | J9: Montant | K9: % | L9: Rang | N9: Montant | O9: % | P9: Rang
A11: UNIBK | B11: =+unibkvar!B23 -> 59051093 | C11: =+B11/somfinbilsys!$B$23 -> 0.30313591 | D11: 1 | E11: UNIBK | F11: =+unibkvar!B61 -> 24187118 | G11: =+F11/somfinbilsys!$B$61 -> 0.33845711 | H11: 1 | I11: UNIBK | J11: =+unibkvar!B30 -> 49484776 | K11: =+J11/somfinbilsys!$B$30 -> 0.31208649 | L11: 1 | M11: UNIBK | N11: =+'unibkgdes&$'!B30 -> 30680322 | O11: =+N11/'sofibilgdes&$ '!$B$30 -> 0.34222804 | P11: 1
A12: SOGEBK | B12: =+sogebkvar!B23 -> 53105997 | C12: =+B12/somfinbilsys!$B$23 -> 0.27261704 | D12: 2 | E12: SOGEBK | F12: =+sogebkvar!B61 -> 19826803 | G12: =+F12/somfinbilsys!$B$61 -> 0.27744199 | H12: 2 | I12: SOGEBK | J12: =+sogebkvar!B30 -> 42844619 | K12: =+J12/somfinbilsys!$B$30 -> 0.2702089 | L12: 2 | M12: SOGEBK | N12: =+'sogebkgdes&$ '!B30 -> 25516968 | O12: =+N12/'sofibilgdes&$ '!$B$30 -> 0.28463267 | P12: 2
A13: BNC | B13: =+bncvar!B23 -> 42887716 | C13: =+B13/somfinbilsys!$B$23 -> 0.220162 | D13: 3 | E13: BNC | F13: =+bncvar!B61 -> 10813285 | G13: =+F13/somfinbilsys!$B$61 -> 0.15131332 | H13: 3 | I13: BNC | J13: =+bncvar!B30 -> 33876001 | K13: =+J13/somfinbilsys!$B$30 -> 0.21364636 | L13: 3 | M13: BNC | N13: =+'bncgdes&$ '!B30 -> 14356275 | O13: =+N13/'sofibilgdes&$ '!$B$30 -> 0.16013911 | P13: 3
